BEGIN:VCALENDAR
VERSION:2.0
PRODID:-//Tukios.com/
BEGIN:VEVENT
UID:38bc706d-f329-4677-a816-5b434e22cf87@www.comfortcremations.net
DTSTAMP:20260423T023229Z
DTSTART:20260517T224500Z
DTEND:20260517T230000Z
SUMMARY:Jim's Last Ride
DESCRIPTION:
URL:https://www.comfortcremations.net/obituaries/james-corning
LOCATION:Chapelview Wedding and Event Venue 5118 S 1000 W  Rensselaer IN 
	47978
GEO:40.939571;-87.239039
END:VEVENT
END:VCALENDAR