BEGIN:VCALENDAR
VERSION:2.0
PRODID:-//Tukios.com/
BEGIN:VEVENT
UID:9c206fd4-7447-43cc-95ec-15d0cc2f8136@www.comfortcremations.net
DTSTAMP:20260423T023359Z
DTSTART:20260517T220000Z
DTEND:20260517T223000Z
SUMMARY:Eulogy
DESCRIPTION:
URL:https://www.comfortcremations.net/obituaries/james-corning
LOCATION:Chapel View Event Venue 5118 S 1000 W  Rensselaer IN 47978
GEO:40.939571;-87.239039
END:VEVENT
END:VCALENDAR