BEGIN:VCALENDAR
VERSION:2.0
PRODID:-//Tukios.com/
BEGIN:VEVENT
UID:150c4cd4-b418-48e5-ab68-a6fc2d544462@www.comfortcremations.net
DTSTAMP:20260423T023516Z
DTSTART:20260517T170000Z
DTEND:20260517T220000Z
SUMMARY:Visitation with Family
DESCRIPTION:
URL:https://www.comfortcremations.net/obituaries/james-corning
LOCATION:Chapel View Event Venue 5118 S 1000 W  Rensselaer IN 47978
GEO:40.939571;-87.239039
END:VEVENT
END:VCALENDAR