BEGIN:VCALENDAR
VERSION:2.0
PRODID:-//Tukios.com/
BEGIN:VEVENT
UID:518a686e-1212-4111-9af4-32565d2a6cd8@www.comfortcremations.net
DTSTAMP:20260423T023130Z
DTSTART:20260517T170000Z
DTEND:20260517T230000Z
SUMMARY:Celebration of Life
DESCRIPTION:
URL:https://www.comfortcremations.net/obituaries/james-corning
LOCATION:Chapelview Wedding and Event Venue 5118 S 1000 W  Rensselaer IN 
	47978
GEO:40.939571;-87.239039
END:VEVENT
END:VCALENDAR